BEGIN:VCALENDAR
VERSION:2.0
PRODID:-//Chch Pride - ECPv6.11.2.1//NONSGML v1.0//EN
CALSCALE:GREGORIAN
METHOD:PUBLISH
X-WR-CALNAME:Chch Pride
X-ORIGINAL-URL:https://www.chchpride.co.nz
X-WR-CALDESC:Events for Chch Pride
REFRESH-INTERVAL;VALUE=DURATION:PT1H
X-Robots-Tag:noindex
X-PUBLISHED-TTL:PT1H
BEGIN:VTIMEZONE
TZID:Pacific/Auckland
BEGIN:STANDARD
TZOFFSETFROM:+1300
TZOFFSETTO:+1200
TZNAME:NZST
DTSTART:20260404T140000
END:STANDARD
BEGIN:DAYLIGHT
TZOFFSETFROM:+1200
TZOFFSETTO:+1300
TZNAME:NZDT
DTSTART:20260926T140000
END:DAYLIGHT
END:VTIMEZONE
BEGIN:VEVENT
DTSTART;TZID=Pacific/Auckland:20260307T130000
DTEND;TZID=Pacific/Auckland:20260307T130000
DTSTAMP:20260420T224938
CREATED:20260125T101210Z
LAST-MODIFIED:20260125T101210Z
UID:3351-1772888400-1772888400@www.chchpride.co.nz
SUMMARY:Hugo's Rainbow Show
DESCRIPTION:What makes a rainbow? Join drag superstar Hugo Grrrl for a musical\, magical adventure exploring the science of the skies above. \nCan you help find Ray The Sun\, Misty The Cloud\, and Wayne The Rain? Maybe even the fabulous Archie The Rainbow?! Together our wonderful weathery friends will make the mysteries of meteorology fun\, all the while proving the power of glitter\, dress-ups\, and friendship. \nHugo’s Rainbow Show is for everyone! Best for two to ten year olds and our neurodivergent whānau\, but even big kids will love this wholesome\, goofy and glamorous experience.
URL:https://www.chchpride.co.nz/event/hugos-rainbow-show/
LOCATION:The Court Theatre\, 129 Gloucester Street\, Christchurch Central\, Christchurch\, 8011\, New Zealand
CATEGORIES:Family Event,Show / Performance
ATTACH;FMTTYPE=image/jpeg:https://www.chchpride.co.nz/wp-content/uploads/2026/01/Hugos-Rainbow-Show-banner-1920x1080-1.jpg
ORGANIZER;CN="The Court Theatre":MAILTO:communications@courttheatre.org.nz
END:VEVENT
BEGIN:VEVENT
DTSTART;TZID=Pacific/Auckland:20260307T180000
DTEND;TZID=Pacific/Auckland:20260307T180000
DTSTAMP:20260420T224938
CREATED:20260126T124607Z
LAST-MODIFIED:20260126T124607Z
UID:3354-1772906400-1772906400@www.chchpride.co.nz
SUMMARY:Everybody's Talking About Jamie
DESCRIPTION:The glittery\, high energy\, pop musical comes to Australasia for the first time in this special concert presentation. \nJamie New is 16 and lives on a council estate in Sheffield. Jamie doesn’t quite fit in. Jamie is terrified about the future. Jamie is going to be a sensation. \nSupported by his brilliant\, loving mum and surrounded by his friends\, Jamie overcomes prejudice\, beats the bullies\, and steps out of the darkness into the spotlight. \nSixteen: the edge of possibility. Time to make your dreams come true. \nUsing members of the LGBTQIA+ community as the performers\, this one night only event is the true spirit of community and builds on our success of The Laramie Project in 2025.
URL:https://www.chchpride.co.nz/event/everybodys-talking-about-jamie/
LOCATION:The Court Theatre\, 129 Gloucester Street\, Christchurch Central\, Christchurch\, 8011\, New Zealand
CATEGORIES:Show / Performance
ATTACH;FMTTYPE=image/jpeg:https://www.chchpride.co.nz/wp-content/uploads/2026/01/Website-_New-Everybodys-Talking-About-Jamie.jpg
ORGANIZER;CN="The Court Theatre":MAILTO:communications@courttheatre.org.nz
END:VEVENT
BEGIN:VEVENT
DTSTART;TZID=Pacific/Auckland:20260307T180000
DTEND;TZID=Pacific/Auckland:20260307T180000
DTSTAMP:20260420T224938
CREATED:20260304T231100Z
LAST-MODIFIED:20260304T231100Z
UID:3714-1772906400-1772906400@www.chchpride.co.nz
SUMMARY:Fresh Off The Page Playreading - But When We're Alone
DESCRIPTION:Fresh Off The Page is the playwriting and play-reading initiative that began in Tāmaki Makaurau in 2016\, and has assisted a number of Asian writers into development since 2018. They expanded to include Pōneke and Ōtautahi in 2022. \nOne of our writers have spent over two months workshopping and redrafting her plays. Now\, is the time to present it to fresh eyes to help further it’s development! \nBut When We’re Alone by Reylene Rose Hilaga \n“A secret love story in two lifetimes. The story of two women from different cultures navigating their relationship away from their Asian immigrant families.”
URL:https://www.chchpride.co.nz/event/fresh-off-the-page-playreading-but-when-were-alone/
LOCATION:The Arts Centre\, 2 Worcester Boulevard\, Christchurch\, New Zealand
CATEGORIES:Mature audience,Show / Performance
ATTACH;FMTTYPE=image/png:https://www.chchpride.co.nz/wp-content/uploads/2026/03/Potential-ad-for-Reylene-FOTP.png
END:VEVENT
BEGIN:VEVENT
DTSTART;TZID=Pacific/Auckland:20260307T193000
DTEND;TZID=Pacific/Auckland:20260307T193000
DTSTAMP:20260420T224938
CREATED:20260126T125514Z
LAST-MODIFIED:20260126T125514Z
UID:3357-1772911800-1772911800@www.chchpride.co.nz
SUMMARY:Scared Scriptless featuring Two Fat 'Fine
DESCRIPTION:Did somebody call for an ICON – what about a few? \nWhat happens when you take an iconic improv show and throw two true icons of the Pacific Rainbow+ community? \nAlex and MahMah are joining The Court Jesters for one special night. Unapologetically fat\, queer\, and proud\, these dynamic personalities will be guest stars as part of Saturday Scriptless. \nPresented in conjunction with Moana Vā. Bring on the chaos!
URL:https://www.chchpride.co.nz/event/scared-scriptless-featuring-two-fat-fine/
LOCATION:The Court Theatre\, 129 Gloucester Street\, Christchurch Central\, Christchurch\, 8011\, New Zealand
CATEGORIES:Show / Performance
ATTACH;FMTTYPE=image/jpeg:https://www.chchpride.co.nz/wp-content/uploads/2026/01/Website-_New-Two-Fat-Fine.jpg
ORGANIZER;CN="The Court Theatre":MAILTO:communications@courttheatre.org.nz
END:VEVENT
BEGIN:VEVENT
DTSTART;TZID=Pacific/Auckland:20260307T213000
DTEND;TZID=Pacific/Auckland:20260307T213000
DTSTAMP:20260420T224938
CREATED:20260128T093859Z
LAST-MODIFIED:20260128T093859Z
UID:3361-1772919000-1772919000@www.chchpride.co.nz
SUMMARY:The Gigantic Gay Late Night Game Show
DESCRIPTION:We are going to be honest here\, we have NO IDEA what this is going to end up being… \nWe are locking our Festival creator in a room with some pretty talented people to make it\, but we guarantee the following: chaos\, carnage\, guests stars\, fierce entertainment\, questions\, queerness and a battle for the ages where at this stage\, even we don’t know how we are going to split the teams. \nWe are slapping an R18 rating on this event because with how the world is going\, we just don’t know what the content might be and yea\, the audience participation is going to be relentless. \nGood luck and don’t f*ck it up!
URL:https://www.chchpride.co.nz/event/the-gigantic-gay-late-night-game-show/
LOCATION:The Court Theatre\, 129 Gloucester Street\, Christchurch Central\, Christchurch\, 8011\, New Zealand
CATEGORIES:R18,Show / Performance
ATTACH;FMTTYPE=image/jpeg:https://www.chchpride.co.nz/wp-content/uploads/2026/01/Website-_New-Late-Night-Gameshow.jpg
ORGANIZER;CN="The Court Theatre":MAILTO:communications@courttheatre.org.nz
END:VEVENT
END:VCALENDAR