BEGIN:VCALENDAR
VERSION:2.0
PRODID:-//Chch Pride - ECPv6.11.2.1//NONSGML v1.0//EN
CALSCALE:GREGORIAN
METHOD:PUBLISH
X-WR-CALNAME:Chch Pride
X-ORIGINAL-URL:https://www.chchpride.co.nz
X-WR-CALDESC:Events for Chch Pride
REFRESH-INTERVAL;VALUE=DURATION:PT1H
X-Robots-Tag:noindex
X-PUBLISHED-TTL:PT1H
BEGIN:VTIMEZONE
TZID:Pacific/Auckland
BEGIN:STANDARD
TZOFFSETFROM:+1300
TZOFFSETTO:+1200
TZNAME:NZST
DTSTART:20260404T140000
END:STANDARD
BEGIN:DAYLIGHT
TZOFFSETFROM:+1200
TZOFFSETTO:+1300
TZNAME:NZDT
DTSTART:20260926T140000
END:DAYLIGHT
END:VTIMEZONE
BEGIN:VEVENT
DTSTART;TZID=Pacific/Auckland:20260328T223000
DTEND;TZID=Pacific/Auckland:20260328T223000
DTSTAMP:20260420T225106
CREATED:20260313T053836Z
LAST-MODIFIED:20260313T054034Z
UID:3754-1774737000-1774737000@www.chchpride.co.nz
SUMMARY:The Secret Piano Bar
DESCRIPTION:The Secret Piano Bar\nWhere the night leans in to listen. \nProudly presented by ITR and JR Entertainment as part of Ōtautahi Christchurch Pride \nStep inside\, turn your phone to silent\, and let the night unfold… \nHidden somewhere within the Isaac Theatre Royal\, The Secret Piano Bar comes alive after dark—an intimate Ōtautahi Christchurch Pride experience where voices rise\, secrets are shared\, and the piano never sleeps. \nThis is a night crafted by those in the room: the music\, the mood\, and the moments shaped by everyone who gathers—singers\, storytellers\, friends\, and you. Settle in with a drink\, relax into the warm after-hours atmosphere\, and\, if you feel like lingering\, add one of ITR’s signature platters to enjoy at your table. Share a song with friends if the moment feels right\, or simply lean back and listen. \nFrom big feelings to quiet confessions\, every moment is once-only… if you know\, you know. \nStay for one drink—or stay until the piano plays its final chord. At The Secret Piano Bar\, the night is yours.
URL:https://www.chchpride.co.nz/event/the-secret-piano-bar/
LOCATION:Isaac Theatre Royal\, 145 Gloucester Street\, Christchurch Central City\, Christchurch\, 8011\, New Zealand
CATEGORIES:Arts,Show / Performance
ATTACH;FMTTYPE=image/jpeg:https://www.chchpride.co.nz/wp-content/uploads/2026/03/SPB-Standard-Square-NO-TEXT.jpg
ORGANIZER;CN="J R Entertainment":MAILTO:jeremy@jrentertainment.co.nz
END:VEVENT
END:VCALENDAR